Workbook

Sheet Oversikt
D1: Navn: | H1: Adresse: | K1: Saksnr.
D2: Epost: | H2: Postnr./By: | K2: 1235
A3: Linje | B3: Kreditor | C3: Gjelder | D3: Saksnr | E3: Type gjeld | F3: Hvem | G3: Stiftet | H3: Hovedstol | I3: Renter | J3: Omkostn | K3: Sum | L3: % andel | M3: Fordeling (kr)
A4: =IF(ISNUMBER(A3),A3+1,1) -> 1 | F4: Per | G4: 27.05.2015 | K4: =IF(Table3[[#This Row],[Kreditor]]="","",Table3[[#This Row],[Hovedstol]]+Table3[[#This Row],[Renter]]+Table3[[#This Row],[Omkostn]]) | L4: =IF(Table3[[#This Row],[Kreditor]]="","",Table3[[#This Row],[Sum]]/Table3[[#Totals],[Sum]]) | M4: =IF(L4="","",$M$1*L4)
A5: =IF(ISNUMBER(A4),A4+1,1) -> 2 | F5: Pål | G5: 27.05.2017 | K5: =IF(Table3[[#This Row],[Kreditor]]="","",Table3[[#This Row],[Hovedstol]]+Table3[[#This Row],[Renter]]+Table3[[#This Row],[Omkostn]]) | L5: =IF(Table3[[#This Row],[Kreditor]]="","",Table3[[#This Row],[Sum]]/Table3[[#Totals],[Sum]]) | M5: =IF(L5="","",$M$1*L5)
A6: =IF(ISNUMBER(A5),A5+1,1) -> 3 | F6: Askeladden | G6: 27.05.2019 | K6: =IF(Table3[[#This Row],[Kreditor]]="","",Table3[[#This Row],[Hovedstol]]+Table3[[#This Row],[Renter]]+Table3[[#This Row],[Omkostn]]) | L6: =IF(Table3[[#This Row],[Kreditor]]="","",Table3[[#This Row],[Sum]]/Table3[[#Totals],[Sum]]) | M6: =IF(L6="","",$M$1*L6)
A7: =IF(ISNUMBER(A6),A6+1,1) -> 4 | K7: =IF(Table3[[#This Row],[Kreditor]]="","",Table3[[#This Row],[Hovedstol]]+Table3[[#This Row],[Renter]]+Table3[[#This Row],[Omkostn]]) | L7: =IF(Table3[[#This Row],[Kreditor]]="","",Table3[[#This Row],[Sum]]/Table3[[#Totals],[Sum]]) | M7: =IF(L7="","",$M$1*L7)
A8: =IF(ISNUMBER(A7),A7+1,1) -> 5 | K8: =IF(Table3[[#This Row],[Kreditor]]="","",Table3[[#This Row],[Hovedstol]]+Table3[[#This Row],[Renter]]+Table3[[#This Row],[Omkostn]]) | L8: =IF(Table3[[#This Row],[Kreditor]]="","",Table3[[#This Row],[Sum]]/Table3[[#Totals],[Sum]]) | M8: =IF(L8="","",$M$1*L8)
A9: =IF(ISNUMBER(A8),A8+1,1) -> 6 | K9: =IF(Table3[[#This Row],[Kreditor]]="","",Table3[[#This Row],[Hovedstol]]+Table3[[#This Row],[Renter]]+Table3[[#This Row],[Omkostn]]) | L9: =IF(Table3[[#This Row],[Kreditor]]="","",Table3[[#This Row],[Sum]]/Table3[[#Totals],[Sum]]) | M9: =IF(L9="","",$M$1*L9)
A10: =IF(ISNUMBER(A9),A9+1,1) -> 7 | K10: =IF(Table3[[#This Row],[Kreditor]]="","",Table3[[#This Row],[Hovedstol]]+Table3[[#This Row],[Renter]]+Table3[[#This Row],[Omkostn]]) | L10: =IF(Table3[[#This Row],[Kreditor]]="","",Table3[[#This Row],[Sum]]/Table3[[#Totals],[Sum]]) | M10: =IF(L10="","",$M$1*L10)
A11: =IF(ISNUMBER(A10),A10+1,1) -> 8 | K11: =IF(Table3[[#This Row],[Kreditor]]="","",Table3[[#This Row],[Hovedstol]]+Table3[[#This Row],[Renter]]+Table3[[#This Row],[Omkostn]]) | L11: =IF(Table3[[#This Row],[Kreditor]]="","",Table3[[#This Row],[Sum]]/Table3[[#Totals],[Sum]]) | M11: =IF(L11="","",$M$1*L11)
A12: =IF(ISNUMBER(A11),A11+1,1) -> 9 | K12: =IF(Table3[[#This Row],[Kreditor]]="","",Table3[[#This Row],[Hovedstol]]+Table3[[#This Row],[Renter]]+Table3[[#This Row],[Omkostn]]) | L12: =IF(Table3[[#This Row],[Kreditor]]="","",Table3[[#This Row],[Sum]]/Table3[[#Totals],[Sum]]) | M12: =IF(L12="","",$M$1*L12)
A13: =IF(ISNUMBER(A12),A12+1,1) -> 10 | K13: =IF(Table3[[#This Row],[Kreditor]]="","",Table3[[#This Row],[Hovedstol]]+Table3[[#This Row],[Renter]]+Table3[[#This Row],[Omkostn]]) | L13: =IF(Table3[[#This Row],[Kreditor]]="","",Table3[[#This Row],[Sum]]/Table3[[#Totals],[Sum]]) | M13: =IF(L13="","",$M$1*L13)
A14: =IF(ISNUMBER(A13),A13+1,1) -> 11 | K14: =IF(Table3[[#This Row],[Kreditor]]="","",Table3[[#This Row],[Hovedstol]]+Table3[[#This Row],[Renter]]+Table3[[#This Row],[Omkostn]]) | L14: =IF(Table3[[#This Row],[Kreditor]]="","",Table3[[#This Row],[Sum]]/Table3[[#Totals],[Sum]]) | M14: =IF(L14="","",$M$1*L14)
A15: =IF(ISNUMBER(A14),A14+1,1) -> 12 | K15: =IF(Table3[[#This Row],[Kreditor]]="","",Table3[[#This Row],[Hovedstol]]+Table3[[#This Row],[Renter]]+Table3[[#This Row],[Omkostn]]) | L15: =IF(Table3[[#This Row],[Kreditor]]="","",Table3[[#This Row],[Sum]]/Table3[[#Totals],[Sum]]) | M15: =IF(L15="","",$M$1*L15)
A16: =IF(ISNUMBER(A15),A15+1,1) -> 13 | K16: =IF(Table3[[#This Row],[Kreditor]]="","",Table3[[#This Row],[Hovedstol]]+Table3[[#This Row],[Renter]]+Table3[[#This Row],[Omkostn]]) | L16: =IF(Table3[[#This Row],[Kreditor]]="","",Table3[[#This Row],[Sum]]/Table3[[#Totals],[Sum]]) | M16: =IF(L16="","",$M$1*L16)
A17: =IF(ISNUMBER(A16),A16+1,1) -> 14 | K17: =IF(Table3[[#This Row],[Kreditor]]="","",Table3[[#This Row],[Hovedstol]]+Table3[[#This Row],[Renter]]+Table3[[#This Row],[Omkostn]]) | L17: =IF(Table3[[#This Row],[Kreditor]]="","",Table3[[#This Row],[Sum]]/Table3[[#Totals],[Sum]]) | M17: =IF(L17="","",$M$1*L17)
A18: =IF(ISNUMBER(A17),A17+1,1) -> 15 | K18: =IF(Table3[[#This Row],[Kreditor]]="","",Table3[[#This Row],[Hovedstol]]+Table3[[#This Row],[Renter]]+Table3[[#This Row],[Omkostn]]) | L18: =IF(Table3[[#This Row],[Kreditor]]="","",Table3[[#This Row],[Sum]]/Table3[[#Totals],[Sum]]) | M18: =IF(L18="","",$M$1*L18)
... A23: =IF(ISNUMBER(A22),A22+1,1) -> 20 | K23: =IF(Table3[[#This Row],[Kreditor]]="","",Table3[[#This Row],[Hovedstol]]+Table3[[#This Row],[Renter]]+Table3[[#This Row],[Omkostn]]) | L23: =IF(Table3[[#This Row],[Kreditor]]="","",Table3[[#This Row],[Sum]]/Table3[[#Totals],[Sum]]) | M23: =IF(L23="","",$M$1*L23)
A24: Total gjeld | H24: =SUBTOTAL(109,Table3[Hovedstol]) -> 0 | I24: =SUBTOTAL(109,Table3[Renter]) -> 0 | J24: =SUBTOTAL(109,Table3[Omkostn]) -> 0 | K24: =SUBTOTAL(109,Table3[Sum]) -> 0 | L24: =SUBTOTAL(109,Table3[% andel]) -> 0 | M24: =SUBTOTAL(109,Table3[ Fordeling (kr) ]) -> 0

Sheet Utskrift
A1: =IF(Oversikt!A1 ="","",Oversikt!A1) | D1: =IF(Oversikt!D1 ="","",Oversikt!D1) -> Navn: | G1: =Oversikt!E1 -> 0 | H1: =IF(Oversikt!H1 ="","",Oversikt!H1) -> Adresse: | I1: =Oversikt!I1 -> 0 | L1: =IF(Oversikt!K1 ="","",Oversikt!K1) -> Saksnr.
A2: =IF(Oversikt!A2 ="","",Oversikt!A2) | B2: =IF(Oversikt!B2 ="","",Oversikt!B2) | D2: =IF(Oversikt!D2 ="","",Oversikt!D2) -> Epost: | G2: =Oversikt!E2 -> 0 | H2: =IF(Oversikt!H2 ="","",Oversikt!H2) -> Postnr./By: | I2: =Oversikt!I2 -> 0 | L2: =Oversikt!K2 -> 1235
A3: Linje | B3: Navn | C3: Hvem | D3: Saksnr | E3: Type gjeld | F3: Startdato | G3: Hovedstol | H3: Renter | I3: Omkostn | J3: Sum | K3: % andel | L3: Fordeling
A4: =IF(Table3[[#This Row],[Linje]]="","",Oversikt!A4) -> 1 | B4: =IF(Table3[[#This Row],[Kreditor]]="","",Oversikt!B4) | C4: =IF(Table3[[#This Row],[Gjelder ]]="","",Oversikt!F4) | D4: =IF(Table3[[#This Row],[Saksnr]]="","",Oversikt!D4) | E4: =IF(Table3[[#This Row],[Type gjeld]]="","",Oversikt!E4) | F4: =IF(Table3[[#This Row],[Hvem]]="","",Oversikt!G4) -> 27.05.2015 | G4: =IF(Table3[[#This Row],[Stiftet]]="","",Oversikt!H4) -> 0 | H4: =IF(Table3[[#This Row],[Hovedstol]]="","",Oversikt!I4) | I4: =IF(Table3[[#This Row],[Renter]]="","",Oversikt!J4) | J4: =IF(Table3[[#This Row],[Omkostn]]="","",Oversikt!K4) | K4: =IF(Table3[[#This Row],[Sum]]="","",Oversikt!L4) | L4: =IF(Table3[[#This Row],[% andel]]="","",Oversikt!M4)
A5: =IF(Table3[[#This Row],[Linje]]="","",Oversikt!A5) -> 2 | B5: =IF(Table3[[#This Row],[Kreditor]]="","",Oversikt!B5) | C5: =IF(Table3[[#This Row],[Gjelder ]]="","",Oversikt!F5) | D5: =IF(Table3[[#This Row],[Saksnr]]="","",Oversikt!D5) | E5: =IF(Table3[[#This Row],[Type gjeld]]="","",Oversikt!E5) | F5: =IF(Table3[[#This Row],[Hvem]]="","",Oversikt!G5) -> 27.05.2017 | G5: =IF(Table3[[#This Row],[Stiftet]]="","",Oversikt!H5) -> 0 | H5: =IF(Table3[[#This Row],[Hovedstol]]="","",Oversikt!I5) | I5: =IF(Table3[[#This Row],[Renter]]="","",Oversikt!J5) | J5: =IF(Table3[[#This Row],[Omkostn]]="","",Oversikt!K5) | K5: =IF(Table3[[#This Row],[Sum]]="","",Oversikt!L5) | L5: =IF(Table3[[#This Row],[% andel]]="","",Oversikt!M5)
A6: =IF(Table3[[#This Row],[Linje]]="","",Oversikt!A6) -> 3 | B6: =IF(Table3[[#This Row],[Kreditor]]="","",Oversikt!B6) | C6: =IF(Table3[[#This Row],[Gjelder ]]="","",Oversikt!F6) | D6: =IF(Table3[[#This Row],[Saksnr]]="","",Oversikt!D6) | E6: =IF(Table3[[#This Row],[Type gjeld]]="","",Oversikt!E6) | F6: =IF(Table3[[#This Row],[Hvem]]="","",Oversikt!G6) -> 27.05.2019 | G6: =IF(Table3[[#This Row],[Stiftet]]="","",Oversikt!H6) -> 0 | H6: =IF(Table3[[#This Row],[Hovedstol]]="","",Oversikt!I6) | I6: =IF(Table3[[#This Row],[Renter]]="","",Oversikt!J6) | J6: =IF(Table3[[#This Row],[Omkostn]]="","",Oversikt!K6) | K6: =IF(Table3[[#This Row],[Sum]]="","",Oversikt!L6) | L6: =IF(Table3[[#This Row],[% andel]]="","",Oversikt!M6)
A7: =IF(Table3[[#This Row],[Linje]]="","",Oversikt!A7) -> 4 | B7: =IF(Table3[[#This Row],[Kreditor]]="","",Oversikt!B7) | C7: =IF(Table3[[#This Row],[Gjelder ]]="","",Oversikt!F7) | D7: =IF(Table3[[#This Row],[Saksnr]]="","",Oversikt!D7) | E7: =IF(Table3[[#This Row],[Type gjeld]]="","",Oversikt!E7) | F7: =IF(Table3[[#This Row],[Hvem]]="","",Oversikt!G7) | G7: =IF(Table3[[#This Row],[Stiftet]]="","",Oversikt!H7) | H7: =IF(Table3[[#This Row],[Hovedstol]]="","",Oversikt!I7) | I7: =IF(Table3[[#This Row],[Renter]]="","",Oversikt!J7) | J7: =IF(Table3[[#This Row],[Omkostn]]="","",Oversikt!K7) | K7: =IF(Table3[[#This Row],[Sum]]="","",Oversikt!L7) | L7: =IF(Table3[[#This Row],[% andel]]="","",Oversikt!M7)
A8: =IF(Table3[[#This Row],[Linje]]="","",Oversikt!A8) -> 5 | B8: =IF(Table3[[#This Row],[Kreditor]]="","",Oversikt!B8) | C8: =IF(Table3[[#This Row],[Gjelder ]]="","",Oversikt!F8) | D8: =IF(Table3[[#This Row],[Saksnr]]="","",Oversikt!D8) | E8: =IF(Table3[[#This Row],[Type gjeld]]="","",Oversikt!E8) | F8: =IF(Table3[[#This Row],[Hvem]]="","",Oversikt!G8) | G8: =IF(Table3[[#This Row],[Stiftet]]="","",Oversikt!H8) | H8: =IF(Table3[[#This Row],[Hovedstol]]="","",Oversikt!I8) | I8: =IF(Table3[[#This Row],[Renter]]="","",Oversikt!J8) | J8: =IF(Table3[[#This Row],[Omkostn]]="","",Oversikt!K8) | K8: =IF(Table3[[#This Row],[Sum]]="","",Oversikt!L8) | L8: =IF(Table3[[#This Row],[% andel]]="","",Oversikt!M8)
A9: =IF(Table3[[#This Row],[Linje]]="","",Oversikt!A9) -> 6 | B9: =IF(Table3[[#This Row],[Kreditor]]="","",Oversikt!B9) | C9: =IF(Table3[[#This Row],[Gjelder ]]="","",Oversikt!F9) | D9: =IF(Table3[[#This Row],[Saksnr]]="","",Oversikt!D9) | E9: =IF(Table3[[#This Row],[Type gjeld]]="","",Oversikt!E9) | F9: =IF(Table3[[#This Row],[Hvem]]="","",Oversikt!G9) | G9: =IF(Table3[[#This Row],[Stiftet]]="","",Oversikt!H9) | H9: =IF(Table3[[#This Row],[Hovedstol]]="","",Oversikt!I9) | I9: =IF(Table3[[#This Row],[Renter]]="","",Oversikt!J9) | J9: =IF(Table3[[#This Row],[Omkostn]]="","",Oversikt!K9) | K9: =IF(Table3[[#This Row],[Sum]]="","",Oversikt!L9) | L9: =IF(Table3[[#This Row],[% andel]]="","",Oversikt!M9)
A10: =IF(Table3[[#This Row],[Linje]]="","",Oversikt!A10) -> 7 | B10: =IF(Table3[[#This Row],[Kreditor]]="","",Oversikt!B10) | C10: =IF(Table3[[#This Row],[Gjelder ]]="","",Oversikt!F10) | D10: =IF(Table3[[#This Row],[Saksnr]]="","",Oversikt!D10) | E10: =IF(Table3[[#This Row],[Type gjeld]]="","",Oversikt!E10) | F10: =IF(Table3[[#This Row],[Hvem]]="","",Oversikt!G10) | G10: =IF(Table3[[#This Row],[Stiftet]]="","",Oversikt!H10) | H10: =IF(Table3[[#This Row],[Hovedstol]]="","",Oversikt!I10) | I10: =IF(Table3[[#This Row],[Renter]]="","",Oversikt!J10) | J10: =IF(Table3[[#This Row],[Omkostn]]="","",Oversikt!K10) | K10: =IF(Table3[[#This Row],[Sum]]="","",Oversikt!L10) | L10: =IF(Table3[[#This Row],[% andel]]="","",Oversikt!M10)
A11: =IF(Table3[[#This Row],[Linje]]="","",Oversikt!A11) -> 8 | B11: =IF(Table3[[#This Row],[Kreditor]]="","",Oversikt!B11) | C11: =IF(Table3[[#This Row],[Gjelder ]]="","",Oversikt!F11) | D11: =IF(Table3[[#This Row],[Saksnr]]="","",Oversikt!D11) | E11: =IF(Table3[[#This Row],[Type gjeld]]="","",Oversikt!E11) | F11: =IF(Table3[[#This Row],[Hvem]]="","",Oversikt!G11) | G11: =IF(Table3[[#This Row],[Stiftet]]="","",Oversikt!H11) | H11: =IF(Table3[[#This Row],[Hovedstol]]="","",Oversikt!I11) | I11: =IF(Table3[[#This Row],[Renter]]="","",Oversikt!J11) | J11: =IF(Table3[[#This Row],[Omkostn]]="","",Oversikt!K11) | K11: =IF(Table3[[#This Row],[Sum]]="","",Oversikt!L11) | L11: =IF(Table3[[#This Row],[% andel]]="","",Oversikt!M11)
A12: =IF(Table3[[#This Row],[Linje]]="","",Oversikt!A12) -> 9 | B12: =IF(Table3[[#This Row],[Kreditor]]="","",Oversikt!B12) | C12: =IF(Table3[[#This Row],[Gjelder ]]="","",Oversikt!F12) | D12: =IF(Table3[[#This Row],[Saksnr]]="","",Oversikt!D12) | E12: =IF(Table3[[#This Row],[Type gjeld]]="","",Oversikt!E12) | F12: =IF(Table3[[#This Row],[Hvem]]="","",Oversikt!G12) | G12: =IF(Table3[[#This Row],[Stiftet]]="","",Oversikt!H12) | H12: =IF(Table3[[#This Row],[Hovedstol]]="","",Oversikt!I12) | I12: =IF(Table3[[#This Row],[Renter]]="","",Oversikt!J12) | J12: =IF(Table3[[#This Row],[Omkostn]]="","",Oversikt!K12) | K12: =IF(Table3[[#This Row],[Sum]]="","",Oversikt!L12) | L12: =IF(Table3[[#This Row],[% andel]]="","",Oversikt!M12)
A13: =IF(Table3[[#This Row],[Linje]]="","",Oversikt!A13) -> 10 | B13: =IF(Table3[[#This Row],[Kreditor]]="","",Oversikt!B13) | C13: =IF(Table3[[#This Row],[Gjelder ]]="","",Oversikt!F13) | D13: =IF(Table3[[#This Row],[Saksnr]]="","",Oversikt!D13) | E13: =IF(Table3[[#This Row],[Type gjeld]]="","",Oversikt!E13) | F13: =IF(Table3[[#This Row],[Hvem]]="","",Oversikt!G13) | G13: =IF(Table3[[#This Row],[Stiftet]]="","",Oversikt!H13) | H13: =IF(Table3[[#This Row],[Hovedstol]]="","",Oversikt!I13) | I13: =IF(Table3[[#This Row],[Renter]]="","",Oversikt!J13) | J13: =IF(Table3[[#This Row],[Omkostn]]="","",Oversikt!K13) | K13: =IF(Table3[[#This Row],[Sum]]="","",Oversikt!L13) | L13: =IF(Table3[[#This Row],[% andel]]="","",Oversikt!M13)
A14: =IF(Table3[[#This Row],[Linje]]="","",Oversikt!A14) -> 11 | B14: =IF(Table3[[#This Row],[Kreditor]]="","",Oversikt!B14) | C14: =IF(Table3[[#This Row],[Gjelder ]]="","",Oversikt!F14) | D14: =IF(Table3[[#This Row],[Saksnr]]="","",Oversikt!D14) | E14: =IF(Table3[[#This Row],[Type gjeld]]="","",Oversikt!E14) | F14: =IF(Table3[[#This Row],[Hvem]]="","",Oversikt!G14) | G14: =IF(Table3[[#This Row],[Stiftet]]="","",Oversikt!H14) | H14: =IF(Table3[[#This Row],[Hovedstol]]="","",Oversikt!I14) | I14: =IF(Table3[[#This Row],[Renter]]="","",Oversikt!J14) | J14: =IF(Table3[[#This Row],[Omkostn]]="","",Oversikt!K14) | K14: =IF(Table3[[#This Row],[Sum]]="","",Oversikt!L14) | L14: =IF(Table3[[#This Row],[% andel]]="","",Oversikt!M14)
A15: =IF(Table3[[#This Row],[Linje]]="","",Oversikt!A15) -> 12 | B15: =IF(Table3[[#This Row],[Kreditor]]="","",Oversikt!B15) | C15: =IF(Table3[[#This Row],[Gjelder ]]="","",Oversikt!F15) | D15: =IF(Table3[[#This Row],[Saksnr]]="","",Oversikt!D15) | E15: =IF(Table3[[#This Row],[Type gjeld]]="","",Oversikt!E15) | F15: =IF(Table3[[#This Row],[Hvem]]="","",Oversikt!G15) | G15: =IF(Table3[[#This Row],[Stiftet]]="","",Oversikt!H15) | H15: =IF(Table3[[#This Row],[Hovedstol]]="","",Oversikt!I15) | I15: =IF(Table3[[#This Row],[Renter]]="","",Oversikt!J15) | J15: =IF(Table3[[#This Row],[Omkostn]]="","",Oversikt!K15) | K15: =IF(Table3[[#This Row],[Sum]]="","",Oversikt!L15) | L15: =IF(Table3[[#This Row],[% andel]]="","",Oversikt!M15)
... A23: =IF(Table3[[#This Row],[Linje]]="","",Oversikt!A23) -> 20 | B23: =IF(Table3[[#This Row],[Kreditor]]="","",Oversikt!B23) | C23: =IF(Table3[[#This Row],[Gjelder ]]="","",Oversikt!F23) | D23: =IF(Table3[[#This Row],[Saksnr]]="","",Oversikt!D23) | E23: =IF(Table3[[#This Row],[Type gjeld]]="","",Oversikt!E23) | F23: =IF(Table3[[#This Row],[Hvem]]="","",Oversikt!G23) | G23: =IF(Table3[[#This Row],[Stiftet]]="","",Oversikt!H23) | H23: =IF(Table3[[#This Row],[Hovedstol]]="","",Oversikt!I23) | I23: =IF(Table3[[#This Row],[Renter]]="","",Oversikt!J23) | J23: =IF(Table3[[#This Row],[Omkostn]]="","",Oversikt!K23) | K23: =IF(Table3[[#This Row],[Sum]]="","",Oversikt!L23) | L23: =IF(Table3[[#This Row],[% andel]]="","",Oversikt!M23)
A24: Totalt | G24: =SUBTOTAL(109,Tabell1[[Hovedstol ]]) -> 0 | H24: =SUBTOTAL(109,Tabell1[[Renter ]]) -> 0 | I24: =SUBTOTAL(109,Tabell1[[Omkostn ]]) -> 0 | J24: =SUBTOTAL(109,Tabell1[[Sum ]]) -> 0

Sheet Adresseark
A1: Navn | B1: E-post | C1: Kontakperson | D1: Adresse | E1: Postnummer, sted | F1: Kommentar
A2: =IF(Oversikt!B4="","",Oversikt!B4) | B2: =IF(A2="","",Oversikt!$E$2) | C2: =IF(A2="","",Oversikt!$E$1) | D2: =IF(A2="","",Oversikt!$I$1) | E2: =IF(A2="","",Oversikt!$I$2)
A3: =IF(Oversikt!B5="","",Oversikt!B5) | B3: =IF(A3="","",Oversikt!$E$2) | C3: =IF(A3="","",Oversikt!$E$1) | D3: =IF(A3="","",Oversikt!$I$1) | E3: =IF(A3="","",Oversikt!$I$2)
A4: =IF(Oversikt!B6="","",Oversikt!B6) | B4: =IF(A4="","",Oversikt!$E$2) | C4: =IF(A4="","",Oversikt!$E$1) | D4: =IF(A4="","",Oversikt!$I$1) | E4: =IF(A4="","",Oversikt!$I$2)
A5: =IF(Oversikt!B7="","",Oversikt!B7) | B5: =IF(A5="","",Oversikt!$E$2) | C5: =IF(A5="","",Oversikt!$E$1) | D5: =IF(A5="","",Oversikt!$I$1) | E5: =IF(A5="","",Oversikt!$I$2)
A6: =IF(Oversikt!B8="","",Oversikt!B8) | B6: =IF(A6="","",Oversikt!$E$2) | C6: =IF(A6="","",Oversikt!$E$1) | D6: =IF(A6="","",Oversikt!$I$1) | E6: =IF(A6="","",Oversikt!$I$2)
A7: =IF(Oversikt!B9="","",Oversikt!B9) | B7: =IF(A7="","",Oversikt!$E$2) | C7: =IF(A7="","",Oversikt!$E$1) | D7: =IF(A7="","",Oversikt!$I$1) | E7: =IF(A7="","",Oversikt!$I$2)
A8: =IF(Oversikt!B10="","",Oversikt!B10) | B8: =IF(A8="","",Oversikt!$E$2) | C8: =IF(A8="","",Oversikt!$E$1) | D8: =IF(A8="","",Oversikt!$I$1) | E8: =IF(A8="","",Oversikt!$I$2)
A9: =IF(Oversikt!B11="","",Oversikt!B11) | B9: =IF(A9="","",Oversikt!$E$2) | C9: =IF(A9="","",Oversikt!$E$1) | D9: =IF(A9="","",Oversikt!$I$1) | E9: =IF(A9="","",Oversikt!$I$2)
A10: =IF(Oversikt!B12="","",Oversikt!B12) | B10: =IF(A10="","",Oversikt!$E$2) | C10: =IF(A10="","",Oversikt!$E$1) | D10: =IF(A10="","",Oversikt!$I$1) | E10: =IF(A10="","",Oversikt!$I$2)
A11: =IF(Oversikt!B13="","",Oversikt!B13) | B11: =IF(A11="","",Oversikt!$E$2) | C11: =IF(A11="","",Oversikt!$E$1) | D11: =IF(A11="","",Oversikt!$I$1) | E11: =IF(A11="","",Oversikt!$I$2)
A12: =IF(Oversikt!B14="","",Oversikt!B14) | B12: =IF(A12="","",Oversikt!$E$2) | C12: =IF(A12="","",Oversikt!$E$1) | D12: =IF(A12="","",Oversikt!$I$1) | E12: =IF(A12="","",Oversikt!$I$2)
A13: =IF(Oversikt!B15="","",Oversikt!B15) | B13: =IF(A13="","",Oversikt!$E$2) | C13: =IF(A13="","",Oversikt!$E$1) | D13: =IF(A13="","",Oversikt!$I$1) | E13: =IF(A13="","",Oversikt!$I$2)
... A21: =IF(Oversikt!B23="","",Oversikt!B23) | B21: =IF(A21="","",Oversikt!$E$2) | C21: =IF(A21="","",Oversikt!$E$1) | D21: =IF(A21="","",Oversikt!$I$1) | E21: =IF(A21="","",Oversikt!$I$2)

Sheet Liste  (skjules)
A1: Navn | B1: Gjelder | C1: Saksnr. | D1: Type gjeld
A2: Kreditor 1 | B2: Far | C2: 1 | D2: Forbruk
A3: Kreditor 2 | B3: Mor | C3: 2 | D3: Kredittkort
A4: Kreditor 3 | B4: Barn 1 | C4: 3 | D4: Boliggjeld
A5: Kreditor 4 | B5: Barn 2 | C5: 4 | D5: Studiegjeld
A6: Kreditor 5 | B6: Barn 3 | C6: 5 | D6: Bidragsgjeld
A7: Kreditor 6 | B7: Barn 4 | C7: 6 | D7: Gjeld staten
A8: Kreditor 7 | B8: Barn 5 | C8: 7 | D8: Privat gjeld
A9: Kreditor 8 | B9: Olemann | C9: 8 | D9: Straffegjeld
A10: Kreditor 9 | C10: 9 | D10: Annen gjeld
C11: 10 | D11: Oppvarming
C12: 11 | D12: Kreditor
C13: 12
C14: 13
C15: 14
C16: 15
C17: 16
C18: 17
C19: 18
C20: 19
C21: 20
